BEGIN:VCALENDAR
VERSION:2.0
PRODID:-//CAM - ECPv6.15.20//NONSGML v1.0//EN
CALSCALE:GREGORIAN
METHOD:PUBLISH
X-ORIGINAL-URL:https://www.cenamet.org.ar
X-WR-CALDESC:Eventos para CAM
REFRESH-INTERVAL;VALUE=DURATION:PT1H
X-Robots-Tag:noindex
X-PUBLISHED-TTL:PT1H
BEGIN:VTIMEZONE
TZID:UTC
BEGIN:STANDARD
TZOFFSETFROM:+0000
TZOFFSETTO:+0000
TZNAME:UTC
DTSTART:19690101T000000
END:STANDARD
END:VTIMEZONE
BEGIN:VEVENT
DTSTART;VALUE=DATE:20191202
DTEND;VALUE=DATE:20191207
DTSTAMP:20260424T104440
CREATED:20230718T025556Z
LAST-MODIFIED:20230718T025556Z
UID:294-1575244800-1575676799@www.cenamet.org.ar
SUMMARY:X Congreso Cubano de Meteorología\, III Seminario-Taller de Contaminación de la Atmósfera y II Seminario de Climatología
DESCRIPTION:
URL:https://www.cenamet.org.ar/congreso/x-congreso-cubano-de-meteorologia-iii-seminario-taller-de-contaminacion-de-la-atmosfera-y-ii-seminario-de-climatologia/
END:VEVENT
BEGIN:VEVENT
DTSTART;VALUE=DATE:20191107
DTEND;VALUE=DATE:20191110
DTSTAMP:20260424T104440
CREATED:20230718T025513Z
LAST-MODIFIED:20230718T025606Z
UID:292-1573084800-1573343999@www.cenamet.org.ar
SUMMARY:I Congreso Peruano de Meteorología
DESCRIPTION:
URL:https://www.cenamet.org.ar/congreso/i-congreso-peruano-de-meteorologia/
END:VEVENT
BEGIN:VEVENT
DTSTART;VALUE=DATE:20190325
DTEND;VALUE=DATE:20190328
DTSTAMP:20260424T104440
CREATED:20230718T025341Z
LAST-MODIFIED:20230718T025341Z
UID:290-1553472000-1553731199@www.cenamet.org.ar
SUMMARY:11º Simpósio de Meteorologia e Geofísica da APMG\, XX Encontro Luso-Espanhol de Meteorologia
DESCRIPTION:
URL:https://www.cenamet.org.ar/congreso/11o-simposio-de-meteorologia-e-geofisica-da-apmg-xx-encontro-luso-espanhol-de-meteorologia/
END:VEVENT
BEGIN:VEVENT
DTSTART;TZID=UTC:20181120T080000
DTEND;TZID=UTC:20181127T170000
DTSTAMP:20260424T104440
CREATED:20230718T025314Z
LAST-MODIFIED:20230718T025314Z
UID:288-1542700800-1543338000@www.cenamet.org.ar
SUMMARY:Congreso Brasilero de Meteorología
DESCRIPTION:
URL:https://www.cenamet.org.ar/congreso/congreso-brasilero-de-meteorologia/
END:VEVENT
BEGIN:VEVENT
DTSTART;TZID=UTC:20181016T080000
DTEND;TZID=UTC:20181019T170000
DTSTAMP:20260424T104440
CREATED:20230709T224933Z
LAST-MODIFIED:20230726T203608Z
UID:182-1539676800-1539968400@www.cenamet.org.ar
SUMMARY:CONGREMET XIII
DESCRIPTION:
URL:https://www.cenamet.org.ar/congreso/congremet-xiii/
CATEGORIES:CAM
END:VEVENT
BEGIN:VEVENT
DTSTART;TZID=UTC:20181016T080000
DTEND;TZID=UTC:20181019T170000
DTSTAMP:20260424T104440
CREATED:20230718T025158Z
LAST-MODIFIED:20230718T025158Z
UID:284-1539676800-1539968400@www.cenamet.org.ar
SUMMARY:XII Congreso Argentino de Meteorología
DESCRIPTION:
URL:https://www.cenamet.org.ar/congreso/xii-congreso-argentino-de-meteorologia/
END:VEVENT
BEGIN:VEVENT
DTSTART;TZID=UTC:20181016T080000
DTEND;TZID=UTC:20181018T170000
DTSTAMP:20260424T104440
CREATED:20230718T025235Z
LAST-MODIFIED:20230718T025235Z
UID:286-1539676800-1539882000@www.cenamet.org.ar
SUMMARY:IV International Conference on El Niño Southern Oscillation
DESCRIPTION:
URL:https://www.cenamet.org.ar/congreso/iv-international-conference-on-el-nino-southern-oscillation/
END:VEVENT
BEGIN:VEVENT
DTSTART;TZID=UTC:20180730T080000
DTEND;TZID=UTC:20180802T170000
DTSTAMP:20260424T104440
CREATED:20230718T025119Z
LAST-MODIFIED:20230718T025119Z
UID:282-1532937600-1533229200@www.cenamet.org.ar
SUMMARY:X Jornadas Nacionales de Ciencias del Mar
DESCRIPTION:
URL:https://www.cenamet.org.ar/congreso/x-jornadas-nacionales-de-ciencias-del-mar/
END:VEVENT
BEGIN:VEVENT
DTSTART;TZID=UTC:20150526T080000
DTEND;TZID=UTC:20150529T170000
DTSTAMP:20260424T104440
CREATED:20230709T225339Z
LAST-MODIFIED:20230726T203701Z
UID:187-1432627200-1432918800@www.cenamet.org.ar
SUMMARY:CONGREMET XII
DESCRIPTION:
URL:https://www.cenamet.org.ar/congreso/congremet-xii/
CATEGORIES:CAM
END:VEVENT
BEGIN:VEVENT
DTSTART;TZID=UTC:20120528T080000
DTEND;TZID=UTC:20120601T170000
DTSTAMP:20260424T104440
CREATED:20230718T032055Z
LAST-MODIFIED:20230718T032055Z
UID:351-1338192000-1338570000@www.cenamet.org.ar
SUMMARY:CONGREMET XI  La meteorología y su contribución al desarrollo humano\, social y económico de las regiones
DESCRIPTION:
URL:https://www.cenamet.org.ar/congreso/congremet-xi-la-meteorologia-y-su-contribucion-al-desarrollo-humano-social-y-economico-de-las-regiones/
CATEGORIES:CAM
END:VEVENT
BEGIN:VEVENT
DTSTART;TZID=UTC:20091005T080000
DTEND;TZID=UTC:20091009T170000
DTSTAMP:20260424T104440
CREATED:20230718T031942Z
LAST-MODIFIED:20230718T031942Z
UID:349-1254729600-1255107600@www.cenamet.org.ar
SUMMARY:CONGREMET X - CLIMET XIII - Los desastres naturales y el cambio climático
DESCRIPTION:
URL:https://www.cenamet.org.ar/congreso/congremet-x-climet-xiii-los-desastres-naturales-y-el-cambio-climatico/
CATEGORIES:CAM
END:VEVENT
BEGIN:VEVENT
DTSTART;VALUE=DATE:20051003
DTEND;VALUE=DATE:20051008
DTSTAMP:20260424T104440
CREATED:20230718T031854Z
LAST-MODIFIED:20230718T031854Z
UID:347-1128297600-1128729599@www.cenamet.org.ar
SUMMARY:CONGREMET IX  Tiempo\, Clima\, Agua y Desarrollo Sostenible
DESCRIPTION:
URL:https://www.cenamet.org.ar/congreso/congremet-ix-tiempo-clima-agua-y-desarrollo-sostenible/
CATEGORIES:CAM
END:VEVENT
BEGIN:VEVENT
DTSTART;VALUE=DATE:20010507
DTEND;VALUE=DATE:20010512
DTSTAMP:20260424T104440
CREATED:20230718T031823Z
LAST-MODIFIED:20230718T031823Z
UID:345-989193600-989625599@www.cenamet.org.ar
SUMMARY:CONGREMET VIII - CLIMET IX  - La meteorología y el medio ambiente en el siglo XXI
DESCRIPTION:
URL:https://www.cenamet.org.ar/congreso/congremet-viii-climet-ix-la-meteorologia-y-el-medio-ambiente-en-el-siglo-xxi/
CATEGORIES:CAM
END:VEVENT
BEGIN:VEVENT
DTSTART;VALUE=DATE:19960902
DTEND;VALUE=DATE:19960907
DTSTAMP:20260424T104440
CREATED:20230718T031718Z
LAST-MODIFIED:20230718T031718Z
UID:342-841622400-842054399@www.cenamet.org.ar
SUMMARY:CONGREMET VII - CLIMET VII  Impacto de las variaciones climáticas en el desarrollo regional\, un enfoque interdisciplinario
DESCRIPTION:
URL:https://www.cenamet.org.ar/congreso/congremet-vii-climet-vii-impacto-de-las-variaciones-climaticas-en-el-desarrollo-regional-un-enfoque-interdisciplinario/
CATEGORIES:CAM
END:VEVENT
BEGIN:VEVENT
DTSTART;VALUE=DATE:19910923
DTEND;VALUE=DATE:19910928
DTSTAMP:20260424T104440
CREATED:20230718T031643Z
LAST-MODIFIED:20230718T031721Z
UID:340-685584000-686015999@www.cenamet.org.ar
SUMMARY:CONGREMET VI  La meteorología en la actividad productiva en la Argentina
DESCRIPTION:
URL:https://www.cenamet.org.ar/congreso/congremet-vi-la-meteorologia-en-la-actividad-productiva-en-la-argentina/
CATEGORIES:CAM
END:VEVENT
BEGIN:VEVENT
DTSTART;VALUE=DATE:19871130
DTEND;VALUE=DATE:19871205
DTSTAMP:20260424T104440
CREATED:20230718T031341Z
LAST-MODIFIED:20230718T031435Z
UID:333-565228800-565660799@www.cenamet.org.ar
SUMMARY:CONGREMET V  - La predicción del tiempo
DESCRIPTION:
URL:https://www.cenamet.org.ar/congreso/congremet-v-la-prediccion-del-tiempo/
CATEGORIES:CAM
END:VEVENT
BEGIN:VEVENT
DTSTART;TZID=UTC:19820913T080000
DTEND;TZID=UTC:19820917T170000
DTSTAMP:20260424T104440
CREATED:20230718T031256Z
LAST-MODIFIED:20230718T031548Z
UID:331-400752000-401130000@www.cenamet.org.ar
SUMMARY:CONGREMET IV - Meteorología y explotación de recursos hídricos y energéticos
DESCRIPTION:
URL:https://www.cenamet.org.ar/congreso/congremet-iv/
CATEGORIES:CAM
END:VEVENT
BEGIN:VEVENT
DTSTART;VALUE=DATE:19781002
DTEND;VALUE=DATE:19781007
DTSTAMP:20260424T104440
CREATED:20230718T031210Z
LAST-MODIFIED:20230718T031210Z
UID:329-276134400-276566399@www.cenamet.org.ar
SUMMARY:CONGREMET III
DESCRIPTION:
URL:https://www.cenamet.org.ar/congreso/congremet-iii/
CATEGORIES:CAM
END:VEVENT
BEGIN:VEVENT
DTSTART;VALUE=DATE:19740718
DTEND;VALUE=DATE:19740719
DTSTAMP:20260424T104440
CREATED:20230718T031127Z
LAST-MODIFIED:20230718T031127Z
UID:327-143337600-143423999@www.cenamet.org.ar
SUMMARY:CONGREMET II
DESCRIPTION:
URL:https://www.cenamet.org.ar/congreso/congremet-ii/
CATEGORIES:CAM
END:VEVENT
BEGIN:VEVENT
DTSTART;VALUE=DATE:19701004
DTEND;VALUE=DATE:19701010
DTSTAMP:20260424T104440
CREATED:20230718T031036Z
LAST-MODIFIED:20230718T031604Z
UID:325-23846400-24364799@www.cenamet.org.ar
SUMMARY:CONGREMET I
DESCRIPTION:
URL:https://www.cenamet.org.ar/congreso/congremet-i/
CATEGORIES:CAM
END:VEVENT
END:VCALENDAR